BEGIN:VCALENDAR
VERSION:2.0
PRODID:-//bonasoft.pl//NONSGML Zaczarowana biblioteka//EN
CALSCALE:GREGORIAN
METHOD:PUBLISH
BEGIN:VEVENT
UID:20260420T024651-615467854uid
DISTAMP:20260420T024651
DTSTART:20260421T070000Z
DTEND:20260422T090000Z
LOCATION:Miejski Dom Kultury w Przasnyszu, ul. 3 Maja 16
SUMMARY:Zaczarowana biblioteka
DESCRIPTION:Zapraszamy uczniów klas 1-6 na spektakl "Zaczarowana biblioteka" - 21 i 22 kwietnia o godz. 9.00 i 11.00
END:VEVENT
END:VCALENDAR
